BEGIN:VCALENDAR
VERSION:2.0
PRODID:-//Western Copper and Gold - ECPv6.15.17//NONSGML v1.0//EN
CALSCALE:GREGORIAN
METHOD:PUBLISH
X-WR-CALNAME:Western Copper and Gold
X-ORIGINAL-URL:https://www.westerncopperandgold.com
X-WR-CALDESC:Events for Western Copper and Gold
REFRESH-INTERVAL;VALUE=DURATION:PT1H
X-Robots-Tag:noindex
X-PUBLISHED-TTL:PT1H
BEGIN:VTIMEZONE
TZID:America/Vancouver
BEGIN:DAYLIGHT
TZOFFSETFROM:-0800
TZOFFSETTO:-0700
TZNAME:PDT
DTSTART:20150308T100000
END:DAYLIGHT
BEGIN:STANDARD
TZOFFSETFROM:-0700
TZOFFSETTO:-0800
TZNAME:PST
DTSTART:20151101T090000
END:STANDARD
BEGIN:DAYLIGHT
TZOFFSETFROM:-0800
TZOFFSETTO:-0700
TZNAME:PDT
DTSTART:20160313T100000
END:DAYLIGHT
BEGIN:STANDARD
TZOFFSETFROM:-0700
TZOFFSETTO:-0800
TZNAME:PST
DTSTART:20161106T090000
END:STANDARD
BEGIN:DAYLIGHT
TZOFFSETFROM:-0800
TZOFFSETTO:-0700
TZNAME:PDT
DTSTART:20170312T100000
END:DAYLIGHT
BEGIN:STANDARD
TZOFFSETFROM:-0700
TZOFFSETTO:-0800
TZNAME:PST
DTSTART:20171105T090000
END:STANDARD
END:VTIMEZONE
BEGIN:VEVENT
DTSTART;VALUE=DATE:20160308
DTEND;VALUE=DATE:20160309
DTSTAMP:20260421T093904
CREATED:20160308T000000Z
LAST-MODIFIED:20250929T162447Z
UID:6284-1457395200-1457481599@www.westerncopperandgold.com
SUMMARY:Paul West-Sells on BNN at PDAC 2016
DESCRIPTION:Paul West-Sells\, President and CEO\, recently attended PDAC 2016 where he was interviewed by Andrew Bell of BNN.
URL:https://www.westerncopperandgold.com/event/paul-west-sells-on-bnn-at-pdac-2016/
END:VEVENT
END:VCALENDAR