BEGIN:VCALENDAR
VERSION:2.0
PRODID:-//Western Copper and Gold - ECPv6.15.17//NONSGML v1.0//EN
CALSCALE:GREGORIAN
METHOD:PUBLISH
X-WR-CALNAME:Western Copper and Gold
X-ORIGINAL-URL:https://www.westerncopperandgold.com
X-WR-CALDESC:Events for Western Copper and Gold
REFRESH-INTERVAL;VALUE=DURATION:PT1H
X-Robots-Tag:noindex
X-PUBLISHED-TTL:PT1H
BEGIN:VTIMEZONE
TZID:America/Vancouver
BEGIN:DAYLIGHT
TZOFFSETFROM:-0800
TZOFFSETTO:-0700
TZNAME:PDT
DTSTART:20140309T100000
END:DAYLIGHT
BEGIN:STANDARD
TZOFFSETFROM:-0700
TZOFFSETTO:-0800
TZNAME:PST
DTSTART:20141102T090000
END:STANDARD
BEGIN:DAYLIGHT
TZOFFSETFROM:-0800
TZOFFSETTO:-0700
TZNAME:PDT
DTSTART:20150308T100000
END:DAYLIGHT
BEGIN:STANDARD
TZOFFSETFROM:-0700
TZOFFSETTO:-0800
TZNAME:PST
DTSTART:20151101T090000
END:STANDARD
BEGIN:DAYLIGHT
TZOFFSETFROM:-0800
TZOFFSETTO:-0700
TZNAME:PDT
DTSTART:20160313T100000
END:DAYLIGHT
BEGIN:STANDARD
TZOFFSETFROM:-0700
TZOFFSETTO:-0800
TZNAME:PST
DTSTART:20161106T090000
END:STANDARD
END:VTIMEZONE
BEGIN:VEVENT
DTSTART;VALUE=DATE:20151130
DTEND;VALUE=DATE:20151204
DTSTAMP:20260421T104159
CREATED:20151103T000000Z
LAST-MODIFIED:20250929T162447Z
UID:6276-1448841600-1449187199@www.westerncopperandgold.com
SUMMARY:Mines & Money London
DESCRIPTION:Western Copper and Gold along with the Yukon Mining Alliance will be attending Mines and Money London\, Europe’s Largest Mining Investment Forum\, November 30 – December 3\, 2015.
URL:https://www.westerncopperandgold.com/event/mines-money-london-2/
LOCATION:Business Design Centre\, Islington\, London\, United Kingdom
END:VEVENT
END:VCALENDAR